BEGIN:VCALENDAR
VERSION:2.0
PRODID:icalendar-ruby
CALSCALE:GREGORIAN
BEGIN:VEVENT
DTSTAMP:20210119T144541Z
UID:c58d6f5b-62b0-496e-83e1-14b06b7912a1
DTSTART;VALUE=DATE:20200219
DESCRIPTION:Property ID# 471926\, Time: 12:30PM
SUMMARY:Auction for 
END:VEVENT
END:VCALENDAR
