BEGIN:VCALENDAR
VERSION:2.0
PRODID:icalendar-ruby
CALSCALE:GREGORIAN
BEGIN:VEVENT
DTSTAMP:20210119T144539Z
UID:8232b6fa-7ef6-46e3-aa73-fe424b6acabb
DTSTART;VALUE=DATE:20200226
DESCRIPTION:Property ID# 472700\, Time: 12:30PM
SUMMARY:Auction for 
END:VEVENT
END:VCALENDAR
