BEGIN:VCALENDAR
VERSION:2.0
PRODID:icalendar-ruby
CALSCALE:GREGORIAN
BEGIN:VEVENT
DTSTAMP:20210119T144528Z
UID:667caa5f-91a8-4da9-86a8-eb97b819015c
DTSTART;VALUE=DATE:20200312
DESCRIPTION:Property ID# 473113\, Locatoin: 85 Rostrevor Street\, Hamilton\
 , Time: 2:00PM
SUMMARY:Auction for 
END:VEVENT
END:VCALENDAR
