BEGIN:VCALENDAR
VERSION:2.0
PRODID:icalendar-ruby
CALSCALE:GREGORIAN
BEGIN:VEVENT
DTSTAMP:20210119T144500Z
UID:41cf3e8d-883a-4bc9-bb44-c8941dea46f4
DTSTART;VALUE=DATE:20201118
DESCRIPTION:Property ID# 494218\, Locatoin: Lodge Auction Rooms 935 Victori
 a Street\, Time: 12:30PM
SUMMARY:Auction for A/8 Boundary Road
END:VEVENT
END:VCALENDAR
