BEGIN:VCALENDAR
VERSION:2.0
PRODID:icalendar-ruby
CALSCALE:GREGORIAN
BEGIN:VEVENT
DTSTAMP:20210119T144518Z
UID:7d25987e-5958-461b-aaf7-461abd2444a7
DTSTART;VALUE=DATE:20201209
DESCRIPTION:Property ID# 494220\, Locatoin: Lodge Auction Rooms\, 935 Victo
 ria Street\, Hamilton\, Time: 12:30PM
SUMMARY:Auction for 
END:VEVENT
END:VCALENDAR
