BEGIN:VCALENDAR
VERSION:2.0
PRODID:icalendar-ruby
CALSCALE:GREGORIAN
BEGIN:VEVENT
DTSTAMP:20210119T144459Z
UID:be991b79-c773-4ff3-bc27-9dceac01fca3
DTSTART;VALUE=DATE:20201125
DESCRIPTION:Property ID# 495286\, Locatoin: Lodge Auction Rooms 935 Victori
 a Street\, Time: 12:30PM
SUMMARY:Auction for 12 Gavin Heights
END:VEVENT
END:VCALENDAR
