BEGIN:VCALENDAR
VERSION:2.0
PRODID:icalendar-ruby
CALSCALE:GREGORIAN
BEGIN:VEVENT
DTSTAMP:20210119T144534Z
UID:ec11fad3-ed3d-4460-ba62-b57573ec046b
DTSTART;VALUE=DATE:20201125
DESCRIPTION:Property ID# 495569\, Locatoin: Lodge Auction Rooms 935 Victori
 a Street\, Time: 12:30PM
SUMMARY:Auction for 
END:VEVENT
END:VCALENDAR
