BEGIN:VCALENDAR
VERSION:2.0
PRODID:icalendar-ruby
CALSCALE:GREGORIAN
BEGIN:VEVENT
DTSTAMP:20210119T144505Z
UID:fdec96ea-b6eb-4bdc-893e-105176bdff43
DTSTART;VALUE=DATE:20201216
DESCRIPTION:Property ID# 497170\, Locatoin: Lodge Auction Rooms 935 Victori
 a Street\, Time: 12:30PM
SUMMARY:Auction for 
END:VEVENT
END:VCALENDAR
