BEGIN:VCALENDAR
VERSION:2.0
PRODID:icalendar-ruby
CALSCALE:GREGORIAN
BEGIN:VEVENT
DTSTAMP:20210119T144516Z
UID:5147e50b-bb2d-4b48-a26b-e76fa55ec9e0
DTSTART;VALUE=DATE:20201218
DESCRIPTION:Property ID# 497830\, Locatoin:  Lodge Auction Rooms\, 935 Vict
 oria Street\, Hamilton\, Time: 12:30PM
SUMMARY:Auction for 
END:VEVENT
END:VCALENDAR
