BEGIN:VCALENDAR
VERSION:2.0
PRODID:icalendar-ruby
CALSCALE:GREGORIAN
BEGIN:VEVENT
DTSTAMP:20210119T144509Z
UID:4a629105-716b-46ee-a25d-9813e65b99b1
DTSTART;VALUE=DATE:20210127
DESCRIPTION:Property ID# 498857\, Locatoin: Lodge Auction Rooms 935 Victori
 a Street\, Time: 12:30PM
SUMMARY:Auction for H/53 Albert Street
END:VEVENT
END:VCALENDAR
