BEGIN:VCALENDAR
VERSION:2.0
PRODID:icalendar-ruby
CALSCALE:GREGORIAN
BEGIN:VEVENT
DTSTAMP:20210119T144511Z
UID:010851ef-0113-436a-8d39-86a528131d40
DTSTART;VALUE=DATE:20210127
DESCRIPTION:Property ID# 499201\, Locatoin: Lodge Auction Rooms 935 Victori
 a Street\, Time: 12:30PM
SUMMARY:Auction for A/16 Portal Crescent
END:VEVENT
END:VCALENDAR
