BEGIN:VCALENDAR
VERSION:2.0
PRODID:icalendar-ruby
CALSCALE:GREGORIAN
BEGIN:VEVENT
DTSTAMP:20210119T144447Z
UID:b5e2d186-165a-4049-aa91-6befa3600c43
DTSTART;TZID=Pacific/Auckland:20210121T120000
DTEND;TZID=Pacific/Auckland:20210121T123000
DESCRIPTION:Property ID# 499658
SUMMARY:Openhome for 32 Radiata Street
END:VEVENT
END:VCALENDAR
