BEGIN:VCALENDAR
VERSION:2.0
PRODID:icalendar-ruby
CALSCALE:GREGORIAN
BEGIN:VEVENT
DTSTAMP:20260422T124707Z
UID:d8bdb6b0-3143-455e-a30d-d9e6fe565367
DTSTART;VALUE=DATE:20231130
DESCRIPTION:Property ID# 565318\, Time: 2:00PM
SUMMARY:Auction for 
END:VEVENT
END:VCALENDAR
