BEGIN:VCALENDAR
VERSION:2.0
PRODID:icalendar-ruby
CALSCALE:GREGORIAN
BEGIN:VEVENT
DTSTAMP:20260424T102517Z
UID:0a38afbc-49d5-43bd-8af1-bb4cef9e5d31
DTSTART;VALUE=DATE:20231207
DESCRIPTION:Property ID# 566309\, Time: 2:00PM
SUMMARY:Auction for 
END:VEVENT
END:VCALENDAR
