BEGIN:VCALENDAR
VERSION:2.0
PRODID:icalendar-ruby
CALSCALE:GREGORIAN
BEGIN:VEVENT
DTSTAMP:20260422T124527Z
UID:a97a3896-3c94-4882-a929-2157da3cb258
DTSTART;VALUE=DATE:20240307
DESCRIPTION:Property ID# 570434\, Time: 2:00PM
SUMMARY:Auction for 
END:VEVENT
END:VCALENDAR
