BEGIN:VCALENDAR
VERSION:2.0
PRODID:icalendar-ruby
CALSCALE:GREGORIAN
BEGIN:VEVENT
DTSTAMP:20260424T101419Z
UID:aad4ca6f-6bfb-42fe-b8c6-1f9fba945281
DTSTART;VALUE=DATE:20250410
DESCRIPTION:Property ID# 587711\, Time: 2:00PM
SUMMARY:Auction for 
END:VEVENT
END:VCALENDAR
